BEGIN:VCALENDAR
VERSION:2.0
PRODID:-//Matthew 5:9 Fellowship - ECPv6.15.20//NONSGML v1.0//EN
CALSCALE:GREGORIAN
METHOD:PUBLISH
X-WR-CALNAME:Matthew 5:9 Fellowship
X-ORIGINAL-URL:https://matthew59.org
X-WR-CALDESC:Events for Matthew 5:9 Fellowship
REFRESH-INTERVAL;VALUE=DURATION:PT1H
X-Robots-Tag:noindex
X-PUBLISHED-TTL:PT1H
BEGIN:VTIMEZONE
TZID:America/New_York
BEGIN:DAYLIGHT
TZOFFSETFROM:-0500
TZOFFSETTO:-0400
TZNAME:EDT
DTSTART:20250309T070000
END:DAYLIGHT
BEGIN:STANDARD
TZOFFSETFROM:-0400
TZOFFSETTO:-0500
TZNAME:EST
DTSTART:20251102T060000
END:STANDARD
BEGIN:DAYLIGHT
TZOFFSETFROM:-0500
TZOFFSETTO:-0400
TZNAME:EDT
DTSTART:20260308T070000
END:DAYLIGHT
BEGIN:STANDARD
TZOFFSETFROM:-0400
TZOFFSETTO:-0500
TZNAME:EST
DTSTART:20261101T060000
END:STANDARD
BEGIN:DAYLIGHT
TZOFFSETFROM:-0500
TZOFFSETTO:-0400
TZNAME:EDT
DTSTART:20270314T070000
END:DAYLIGHT
BEGIN:STANDARD
TZOFFSETFROM:-0400
TZOFFSETTO:-0500
TZNAME:EST
DTSTART:20271107T060000
END:STANDARD
END:VTIMEZONE
BEGIN:VEVENT
DTSTART;TZID=America/New_York:20260409T080000
DTEND;TZID=America/New_York:20260409T170000
DTSTAMP:20260423T174918
CREATED:20260326T182306Z
LAST-MODIFIED:20260326T182306Z
UID:10000050-1775721600-1775754000@matthew59.org
SUMMARY:Peacemaking & Polarization at Criswell College
DESCRIPTION:On April 9th\, Criswell College’s Thrive Chapel in Dallas\, TX\, will host Matthew 5:9 Fellowship as we present our Peacemaking and Polarization workshop to attendees. Peacemaking in a polarized world requires shifting from “us vs. them” mentalities to building community through curiosity\, conversations\, and empathy. It involves actively managing conflict\, practicing “radically ordinary hospitality\,” and using emotional intelligence to bridge ideological divides. Key strategies include listening to understand rather than to respond\, embracing complexity\, and addressing the root causes of division.
URL:https://matthew59.org/event/peacemaking-polarization-at-criswell-college/
LOCATION:Criswell College\, Dallas\, TX
CATEGORIES:TX Events
ATTACH;FMTTYPE=image/png:https://matthew59.org/wp-content/uploads/2026/03/Screenshot-2026-03-26-at-1.22.42-PM.png
END:VEVENT
END:VCALENDAR