BEGIN:VCALENDAR
VERSION:2.0
PRODID:-//Matthew 5:9 Fellowship - ECPv6.15.20//NONSGML v1.0//EN
CALSCALE:GREGORIAN
METHOD:PUBLISH
X-ORIGINAL-URL:https://matthew59.org
X-WR-CALDESC:Events for Matthew 5:9 Fellowship
REFRESH-INTERVAL;VALUE=DURATION:PT1H
X-Robots-Tag:noindex
X-PUBLISHED-TTL:PT1H
BEGIN:VTIMEZONE
TZID:America/New_York
BEGIN:DAYLIGHT
TZOFFSETFROM:-0500
TZOFFSETTO:-0400
TZNAME:EDT
DTSTART:20250309T070000
END:DAYLIGHT
BEGIN:STANDARD
TZOFFSETFROM:-0400
TZOFFSETTO:-0500
TZNAME:EST
DTSTART:20251102T060000
END:STANDARD
BEGIN:DAYLIGHT
TZOFFSETFROM:-0500
TZOFFSETTO:-0400
TZNAME:EDT
DTSTART:20260308T070000
END:DAYLIGHT
BEGIN:STANDARD
TZOFFSETFROM:-0400
TZOFFSETTO:-0500
TZNAME:EST
DTSTART:20261101T060000
END:STANDARD
BEGIN:DAYLIGHT
TZOFFSETFROM:-0500
TZOFFSETTO:-0400
TZNAME:EDT
DTSTART:20270314T070000
END:DAYLIGHT
BEGIN:STANDARD
TZOFFSETFROM:-0400
TZOFFSETTO:-0500
TZNAME:EST
DTSTART:20271107T060000
END:STANDARD
END:VTIMEZONE
BEGIN:VEVENT
DTSTART;TZID=America/New_York:20260221T083000
DTEND;TZID=America/New_York:20260221T140000
DTSTAMP:20260423T175100
CREATED:20260112T173532Z
LAST-MODIFIED:20260220T164928Z
UID:10000047-1771662600-1771682400@matthew59.org
SUMMARY:Lenten Peacemakers Conference
DESCRIPTION:The Lenten season invites followers of Jesus to reflect\, repent\, and renew.  In a time when polarization so often shapes our relationships\, neighborhoods\, and even our churches\, Lent offers a sacred opportunity to return to the way of peace.  Jesus said\, “Blessed are the peacemakers” (Matt 5:9)\, calling His people to embody reconciliation in a divided world. \nJoin us as we host Matthew 5:9 Fellowship (www.mathew59.org) for a special Lenten gathering on Christian peacemaking.  Through a series of interactive workshops\, participants will explore how to faithfully engage polarization\, transcend toxic division\, and cultivate meaningful dialogue with neighbors and fellow believers.  Together we’ll discover what it means to walk the path of peace during this holy season. \nThis event will be held in the Sanctuary of Genesis Church of Fayetteville on Saturday\, February 21st \, from 8:30 AM to 2:00 PM\, with lunch provided.  There is no cost to attend\, but registration is required.  You can register by clicking here. For more information\, contact Jody Farrell at jfarrell@genfay.com. \nSession Descriptions: \nPeacemaking and Polarization \nJesus prayed that His church would be one\, just as He and His Father are one. Yet Christians \ntoday find themselves divided over many of the same political ideologies and social issues that \ndivide our nation at large. Instead of bearing with one another in love\, many Christian laypeople \nand leaders are seemingly intent on devouring one another instead. How have we become so \ntoxically polarized? How can Christians strive for unity\, particularly in politically heightened \ntimes? \nTranscending Political Polarization \nOur God is the Creator of everything on the face of the earth – including politics. Like any \ncreated thing\, some of us make too much of it and find ourselves consumed with the latest \nheadlines coming out of Washington. Others think too little of it\, struggling to imagine anything \ngood that can come from our divisive political system. How can we as Christians think about our \npolitical identity\, recognizing both our residence in the world and our citizenship in heaven? \nHow to Talk to Your Neighbor \nWhen Jesus was asked to name the greatest commandment\, He paired love for God with love \nfor neighbor. Yet amid today’s toxic polarization\, even ordinary conversations can become \nsources of conflict and distrust. As followers of Christ\, we are called not only to speak truth but \nto do so in love—seeking understanding rather than victory. This workshop will consider how \nfaithful dialogue can serve as an antidote to toxic polarization\, offering practical ways to engage \ndifficult topics with truth\, humility\, empathy\, and grace toward those around us.
URL:https://matthew59.org/event/lenten-peacemakers-conference/
LOCATION:Genesis Church of Fayetteville\, 205 W. Martin Luther King Blvd.\, Fayetteville\, AR\, 72701
ATTACH;FMTTYPE=image/png:https://matthew59.org/wp-content/uploads/2026/01/Screenshot-2026-01-12-at-11.20.41-AM.png
END:VEVENT
END:VCALENDAR