BEGIN:VCALENDAR
VERSION:2.0
PRODID:-//Matthew 5:9 Fellowship - ECPv6.15.20//NONSGML v1.0//EN
CALSCALE:GREGORIAN
METHOD:PUBLISH
X-WR-CALNAME:Matthew 5:9 Fellowship
X-ORIGINAL-URL:https://matthew59.org
X-WR-CALDESC:Events for Matthew 5:9 Fellowship
REFRESH-INTERVAL;VALUE=DURATION:PT1H
X-Robots-Tag:noindex
X-PUBLISHED-TTL:PT1H
BEGIN:VTIMEZONE
TZID:America/New_York
BEGIN:DAYLIGHT
TZOFFSETFROM:-0500
TZOFFSETTO:-0400
TZNAME:EDT
DTSTART:20230312T070000
END:DAYLIGHT
BEGIN:STANDARD
TZOFFSETFROM:-0400
TZOFFSETTO:-0500
TZNAME:EST
DTSTART:20231105T060000
END:STANDARD
BEGIN:DAYLIGHT
TZOFFSETFROM:-0500
TZOFFSETTO:-0400
TZNAME:EDT
DTSTART:20240310T070000
END:DAYLIGHT
BEGIN:STANDARD
TZOFFSETFROM:-0400
TZOFFSETTO:-0500
TZNAME:EST
DTSTART:20241103T060000
END:STANDARD
BEGIN:DAYLIGHT
TZOFFSETFROM:-0500
TZOFFSETTO:-0400
TZNAME:EDT
DTSTART:20250309T070000
END:DAYLIGHT
BEGIN:STANDARD
TZOFFSETFROM:-0400
TZOFFSETTO:-0500
TZNAME:EST
DTSTART:20251102T060000
END:STANDARD
BEGIN:DAYLIGHT
TZOFFSETFROM:-0500
TZOFFSETTO:-0400
TZNAME:EDT
DTSTART:20260308T070000
END:DAYLIGHT
BEGIN:STANDARD
TZOFFSETFROM:-0400
TZOFFSETTO:-0500
TZNAME:EST
DTSTART:20261101T060000
END:STANDARD
END:VTIMEZONE
BEGIN:VEVENT
DTSTART;TZID=America/New_York:20250603T083000
DTEND;TZID=America/New_York:20250603T153000
DTSTAMP:20260423T194603
CREATED:20250529T200207Z
LAST-MODIFIED:20250529T200207Z
UID:10000040-1748939400-1748964600@matthew59.org
SUMMARY:Redeeming Conflict
DESCRIPTION:The Redeeming Conflict in-person event co-sponsored by the National Association of Evangelicals and Matthew 5:9 Fellowship is specifically designed for pastors and leaders who want to learn how to engage in meaningful conversations across differences. \nThe featured speaker is Ann Garrido of the Aquinas Institute of Theology and author of “Redeeming Conflict” and “Redeeming Power.” Ann has worked closely with members of the Harvard Negotiation Project. \nWhen: Tuesday\, June 3 | 8:30 a.m.–3:30 p.m. \nWhere: Cherrydale Baptist Church (3910 Lorcom Lane\, Arlington\, VA 22207) \nRegistration is free (click here)\, but space is limited because we want to foster meaningful conversations among pastors and leaders. Participants will be provided with breakfast and lunch. Last day to register is Friday\, May 30.
URL:https://matthew59.org/event/redeeming-conflict/
LOCATION:Cherrydale Baptist Church\, 3910 Lorcom Lane\, Arlington\, VA\, 22207\, United States
CATEGORIES:NAE Events
ATTACH;FMTTYPE=image/png:https://matthew59.org/wp-content/uploads/2025/05/Screen-Shot-2025-05-29-at-3.00.59-PM.png
END:VEVENT
BEGIN:VEVENT
DTSTART;TZID=America/New_York:20240913T083000
DTEND;TZID=America/New_York:20240913T143000
DTSTAMP:20260423T194603
CREATED:20240806T164131Z
LAST-MODIFIED:20240807T184059Z
UID:10000017-1726216200-1726237800@matthew59.org
SUMMARY:Digitial Discipleship: AI Ethics and Mission in Our Society
DESCRIPTION:Join us for an exploration of this critical juncture at Digital Discipleship: AI Ethics and Mission in Our Society. We will discuss the ethical\, social\, and philosophical implications of AI’s rapid advancement. Through interactive discussions\, expert insights\, and interactive sessions\, we hope to learn how to filter our thinking around AI through the lens of Christians who place their identity in Jesus Christ above these types of societal divisions. \nEvent Highlights: \n\nKeynote address by a leading Evangelical AI expert\nPanel discussion featuring experts from diverse fields\nInteractive discussions on AI ethics and responsible development\nNetworking opportunities with evangelical leaders and fellow AI enthusiasts\n\nAll attendees will receive a free copy of Jason Thacker’s book Following Jesus in a Digital Age. \nLunch will be provided at no charge.
URL:https://matthew59.org/event/digitial-discipleship-ai-ethics-and-mission-in-our-society/
LOCATION:Cherrydale Baptist Church\, 3910 Lorcom Lane\, Arlington\, VA\, 22207\, United States
CATEGORIES:digital discipleship
ATTACH;FMTTYPE=image/png:https://matthew59.org/wp-content/uploads/2024/08/NAE_AI_Digital-Discipleship-1.png
END:VEVENT
END:VCALENDAR