BEGIN:VCALENDAR
VERSION:2.0
PRODID:-//Matthew 5:9 Fellowship - ECPv6.15.20//NONSGML v1.0//EN
CALSCALE:GREGORIAN
METHOD:PUBLISH
X-ORIGINAL-URL:https://matthew59.org
X-WR-CALDESC:Events for Matthew 5:9 Fellowship
REFRESH-INTERVAL;VALUE=DURATION:PT1H
X-Robots-Tag:noindex
X-PUBLISHED-TTL:PT1H
BEGIN:VTIMEZONE
TZID:America/New_York
BEGIN:DAYLIGHT
TZOFFSETFROM:-0500
TZOFFSETTO:-0400
TZNAME:EDT
DTSTART:20210314T070000
END:DAYLIGHT
BEGIN:STANDARD
TZOFFSETFROM:-0400
TZOFFSETTO:-0500
TZNAME:EST
DTSTART:20211107T060000
END:STANDARD
BEGIN:DAYLIGHT
TZOFFSETFROM:-0500
TZOFFSETTO:-0400
TZNAME:EDT
DTSTART:20220313T070000
END:DAYLIGHT
BEGIN:STANDARD
TZOFFSETFROM:-0400
TZOFFSETTO:-0500
TZNAME:EST
DTSTART:20221106T060000
END:STANDARD
BEGIN:DAYLIGHT
TZOFFSETFROM:-0500
TZOFFSETTO:-0400
TZNAME:EDT
DTSTART:20230312T070000
END:DAYLIGHT
BEGIN:STANDARD
TZOFFSETFROM:-0400
TZOFFSETTO:-0500
TZNAME:EST
DTSTART:20231105T060000
END:STANDARD
END:VTIMEZONE
BEGIN:VEVENT
DTSTART;TZID=America/New_York:20221029T093000
DTEND;TZID=America/New_York:20221029T143000
DTSTAMP:20260423T232754
CREATED:20221122T171141Z
LAST-MODIFIED:20221206T172203Z
UID:10000002-1667035800-1667053800@matthew59.org
SUMMARY:LEADING IN DIVIDED TIMES
DESCRIPTION:Join the Matthew 5:9 Fellowship on Saturday\, October 29 for a special workshop titled Leading in Divided Times. This interactive presentation on the challenges of toxic polarization is open and free to everyone\, but it is specifically geared toward Christian leaders in the Baltimore metropolitan region. We will be examining why toxic polarization happens\, giving strategies to Christian leaders to address it\, and providing tangible resources to shepherd communities in the midst of midterm elections. Matthew 5:9’s co-founding partner organization\, Over Zero\, will also speak about social science-derived insights and tools for building stronger\, more resilient communities.\n \n\n9:00am-9:30am Registration opens\n9:30am-11:30am Polarization workshop\n11:30am-12:30pm Lunch (provided on site)\n12:30pm-1:00pm Over Zero presentation\n1:00pm-1:30pm Next Steps discussion\n1:30pm-2:30pm Midterm Elections resource\n\nPlease contact Larry Lin at larry@oneamericamovement.org if you have questions.\n			\n				Register Here
URL:https://matthew59.org/event/leading-in-divided-times/
LOCATION:Grace Fellowship Church\, 9505 Deereco Rd\, Timonium\, MD\, 21093
ATTACH;FMTTYPE=image/jpeg:https://matthew59.org/wp-content/uploads/2022/11/DSC_0104-e1670357506813.jpg
END:VEVENT
END:VCALENDAR